1.00000000000000
0.00000000000000
0.00000000000000
-1.00000000000000
798833.50000000
1361943.50000000
