1.00000000000000
0.00000000000000
0.00000000000000
-1.00000000000000
799111.50000000
1373334.50000000
