1.00000000000000
0.00000000000000
0.00000000000000
-1.00000000000000
774775.50000000
1362542.50000000
