1.00000000000000
0.00000000000000
0.00000000000000
-1.00000000000000
766756.50000000
1362748.50000000
