1.00000000000000
0.00000000000000
0.00000000000000
-1.00000000000000
775066.50000000
1373933.50000000
