1.00000000000000
0.00000000000000
0.00000000000000
-1.00000000000000
767051.50000000
1374139.50000000
