1.00000000000000
0.00000000000000
0.00000000000000
-1.00000000000000
790814.50000000
1362139.50000000
