1.00000000000000
0.00000000000000
0.00000000000000
-1.00000000000000
782794.50000000
1362339.50000000
