1.00000000000000
0.00000000000000
0.00000000000000
-1.00000000000000
791096.50000000
1373531.50000000
