1.00000000000000
0.00000000000000
0.00000000000000
-1.00000000000000
783081.50000000
1373731.50000000
