1.00000000000000
0.00000000000000
0.00000000000000
-1.00000000000000
742391.50000000
1351994.50000000
