1.00000000000000
0.00000000000000
0.00000000000000
-1.00000000000000
734367.50000000
1352212.50000000
