1.00000000000000
0.00000000000000
0.00000000000000
-1.00000000000000
750414.50000000
1351779.50000000
