1.00000000000000
0.00000000000000
0.00000000000000
-1.00000000000000
742698.50000000
1363384.50000000
