1.00000000000000
0.00000000000000
0.00000000000000
-1.00000000000000
734680.50000000
1363603.50000000
