1.00000000000000
0.00000000000000
0.00000000000000
-1.00000000000000
743006.50000000
1374775.50000000
