1.00000000000000
0.00000000000000
0.00000000000000
-1.00000000000000
734992.50000000
1374993.50000000
