1.00000000000000
0.00000000000000
0.00000000000000
-1.00000000000000
758737.50000000
1362957.50000000
