1.00000000000000
0.00000000000000
0.00000000000000
-1.00000000000000
750718.50000000
1363169.50000000
