1.00000000000000
0.00000000000000
0.00000000000000
-1.00000000000000
759036.50000000
1374348.50000000
