1.00000000000000
0.00000000000000
0.00000000000000
-1.00000000000000
751021.50000000
1374560.50000000
