1.00000000000000
0.00000000000000
0.00000000000000
-1.00000000000000
726661.50000000
1363824.50000000
