1.00000000000000
0.00000000000000
0.00000000000000
-1.00000000000000
726977.50000000
1375214.50000000
