1.00000000000000
0.00000000000000
0.00000000000000
-1.00000000000000
799388.50000000
1384726.50000000
