1.00000000000000
0.00000000000000
0.00000000000000
-1.00000000000000
799666.50000000
1396118.50000000
