1.00000000000000
0.00000000000000
0.00000000000000
-1.00000000000000
799944.50000000
1407510.50000000
