1.00000000000000
0.00000000000000
0.00000000000000
-1.00000000000000
775356.50000000
1385325.50000000
