1.00000000000000
0.00000000000000
0.00000000000000
-1.00000000000000
767346.50000000
1385530.50000000
