1.00000000000000
0.00000000000000
0.00000000000000
-1.00000000000000
775647.50000000
1396716.50000000
