1.00000000000000
0.00000000000000
0.00000000000000
-1.00000000000000
767640.50000000
1396922.50000000
