1.00000000000000
0.00000000000000
0.00000000000000
-1.00000000000000
791378.50000000
1384922.50000000
