1.00000000000000
0.00000000000000
0.00000000000000
-1.00000000000000
783367.50000000
1385122.50000000
