1.00000000000000
0.00000000000000
0.00000000000000
-1.00000000000000
791660.50000000
1396314.50000000
