1.00000000000000
0.00000000000000
0.00000000000000
-1.00000000000000
783653.50000000
1396514.50000000
