1.00000000000000
0.00000000000000
0.00000000000000
-1.00000000000000
775937.50000000
1408108.50000000
