1.00000000000000
0.00000000000000
0.00000000000000
-1.00000000000000
767935.50000000
1408313.50000000
