1.00000000000000
0.00000000000000
0.00000000000000
-1.00000000000000
776228.50000000
1419500.50000000
