1.00000000000000
0.00000000000000
0.00000000000000
-1.00000000000000
768230.50000000
1419705.50000000
