1.00000000000000
0.00000000000000
0.00000000000000
-1.00000000000000
791941.50000000
1407706.50000000
