1.00000000000000
0.00000000000000
0.00000000000000
-1.00000000000000
783939.50000000
1407905.50000000
