1.00000000000000
0.00000000000000
0.00000000000000
-1.00000000000000
784226.50000000
1419298.50000000
