1.00000000000000
0.00000000000000
0.00000000000000
-1.00000000000000
743314.50000000
1386166.50000000
