1.00000000000000
0.00000000000000
0.00000000000000
-1.00000000000000
735304.50000000
1386384.50000000
