1.00000000000000
0.00000000000000
0.00000000000000
-1.00000000000000
743622.50000000
1397557.50000000
