1.00000000000000
0.00000000000000
0.00000000000000
-1.00000000000000
735616.50000000
1397775.50000000
