1.00000000000000
0.00000000000000
0.00000000000000
-1.00000000000000
759335.50000000
1385739.50000000
