1.00000000000000
0.00000000000000
0.00000000000000
-1.00000000000000
751325.50000000
1385951.50000000
