1.00000000000000
0.00000000000000
0.00000000000000
-1.00000000000000
759634.50000000
1397131.50000000
