1.00000000000000
0.00000000000000
0.00000000000000
-1.00000000000000
751628.50000000
1397342.50000000
