1.00000000000000
0.00000000000000
0.00000000000000
-1.00000000000000
743930.50000000
1408948.50000000
